BEGIN:VCALENDAR
VERSION:2.0
PRODID:-//Benfleet Running Club - ECPv6.11.2.1//NONSGML v1.0//EN
CALSCALE:GREGORIAN
METHOD:PUBLISH
X-ORIGINAL-URL:http://benfleetrunningclub.co.uk
X-WR-CALDESC:Events for Benfleet Running Club
REFRESH-INTERVAL;VALUE=DURATION:PT1H
X-Robots-Tag:noindex
X-PUBLISHED-TTL:PT1H
BEGIN:VTIMEZONE
TZID:Europe/London
BEGIN:DAYLIGHT
TZOFFSETFROM:+0000
TZOFFSETTO:+0100
TZNAME:BST
DTSTART:20240331T010000
END:DAYLIGHT
BEGIN:STANDARD
TZOFFSETFROM:+0100
TZOFFSETTO:+0000
TZNAME:GMT
DTSTART:20241027T010000
END:STANDARD
END:VTIMEZONE
BEGIN:VEVENT
DTSTART;TZID=Europe/London:20240710T193000
DTEND;TZID=Europe/London:20240710T203000
DTSTAMP:20260422T025603
CREATED:20240603T031224Z
LAST-MODIFIED:20240603T031224Z
UID:7297-1720639800-1720643400@benfleetrunningclub.co.uk
SUMMARY:Crown to Crown (GRAND PRIX EVENT)
DESCRIPTION:Race no.3 in our Trail Grand Prix series.  \nInfo from the organisers: \nThe Crown to Crown is a long established race and very popular within the running community\, attracting runners from across Essex and London. The course is a measured 5k undulating part trail and part road route\, which is challenging in parts\, yet equally picturesque. \n  \nlink to host:  https://www.pitsearunningclub.org.uk/ \n  \nWednesday 10th July 2024\, 19:30 \nWestley Heights Country Park\, 1 Dry St\, Langdon Hills\, Basildon SS16 5LT\, UK
URL:http://benfleetrunningclub.co.uk/event/crown-to-crown-grand-prix-event/
CATEGORIES:Grand Prix,Race
END:VEVENT
BEGIN:VEVENT
DTSTART;TZID=Europe/London:20240727T090000
DTEND;TZID=Europe/London:20240727T100000
DTSTAMP:20260422T025603
CREATED:20240520T120156Z
LAST-MODIFIED:20240520T120434Z
UID:7252-1722070800-1722074400@benfleetrunningclub.co.uk
SUMMARY:Chalkwell Beach parkrun (GRAND PRIX EVENT)
DESCRIPTION:Race no.3 on our Road Grand Prix series. \nAs part of this series BRC are going to head down to Chalkwell Beach and race the parkrun. This is a great event that has been growing from strength to strength. \nIf you’ve not heard about parkrun\, or signed up for free\, then head over to the link below: \nhttps://www.parkrun.org.uk/chalkwellbeach/
URL:http://benfleetrunningclub.co.uk/event/chalkwell-beach-parkrun-grand-prix-event/
CATEGORIES:Grand Prix,Race
END:VEVENT
END:VCALENDAR