BEGIN:VCALENDAR
VERSION:2.0
PRODID:-//Benfleet Running Club - ECPv6.11.2.1//NONSGML v1.0//EN
CALSCALE:GREGORIAN
METHOD:PUBLISH
X-ORIGINAL-URL:http://benfleetrunningclub.co.uk
X-WR-CALDESC:Events for Benfleet Running Club
REFRESH-INTERVAL;VALUE=DURATION:PT1H
X-Robots-Tag:noindex
X-PUBLISHED-TTL:PT1H
BEGIN:VTIMEZONE
TZID:Europe/London
BEGIN:DAYLIGHT
TZOFFSETFROM:+0000
TZOFFSETTO:+0100
TZNAME:BST
DTSTART:20240331T010000
END:DAYLIGHT
BEGIN:STANDARD
TZOFFSETFROM:+0100
TZOFFSETTO:+0000
TZNAME:GMT
DTSTART:20241027T010000
END:STANDARD
END:VTIMEZONE
BEGIN:VEVENT
DTSTART;TZID=Europe/London:20240811T083000
DTEND;TZID=Europe/London:20240811T180000
DTSTAMP:20260422T013827
CREATED:20240603T032152Z
LAST-MODIFIED:20240603T032152Z
UID:7299-1723365000-1723399200@benfleetrunningclub.co.uk
SUMMARY:Fairleigh Cold Norton Half (GRAND PRIX EVENT)
DESCRIPTION:Race no.4 in our Trail Grand Prix series.  \n  \nInfo from the organisers: \nOnce again we’d love you to join us for our summer charity trail running event. Fundraising for this event will be for Farleigh Hospice. \nEntries close on 31st July 2024. \n  \nAll proceeds for this event go to Farleigh Hospice. \nFarleigh Hospice provides hospice care & support to people affected by life-limiting illnesses. With approximately 40% of our yearly running costs funded by the local NHS\, we rely on the goodwill of the local mid Essex community to contribute to the £21\,270 it costs to provide our services each day. \n  \nEvent address:  \nBencott\, Newport Avenue\, Cold Norton\, Essex CM3 6NR. (This is off of Fambridge Road between Cold Norton & North Fambridge.) What3words location: tickles.options.rural \n  \nlink to event:  \nhttps://www.entrycentral.com/event/124550
URL:http://benfleetrunningclub.co.uk/event/fairleigh-cold-norton-half-grand-prix-event/
CATEGORIES:Grand Prix,Race
END:VEVENT
END:VCALENDAR