BEGIN:VCALENDAR
VERSION:2.0
PRODID:-//Benfleet Running Club - ECPv6.11.2.1//NONSGML v1.0//EN
CALSCALE:GREGORIAN
METHOD:PUBLISH
X-ORIGINAL-URL:http://benfleetrunningclub.co.uk
X-WR-CALDESC:Events for Benfleet Running Club
REFRESH-INTERVAL;VALUE=DURATION:PT1H
X-Robots-Tag:noindex
X-PUBLISHED-TTL:PT1H
BEGIN:VTIMEZONE
TZID:Europe/London
BEGIN:DAYLIGHT
TZOFFSETFROM:+0000
TZOFFSETTO:+0100
TZNAME:BST
DTSTART:20240331T010000
END:DAYLIGHT
BEGIN:STANDARD
TZOFFSETFROM:+0100
TZOFFSETTO:+0000
TZNAME:GMT
DTSTART:20241027T010000
END:STANDARD
END:VTIMEZONE
BEGIN:VEVENT
DTSTART;VALUE=DATE:20240609
DTEND;VALUE=DATE:20240610
DTSTAMP:20260422T054305
CREATED:20240520T112704Z
LAST-MODIFIED:20240527T225831Z
UID:7245-1717891200-1717977599@benfleetrunningclub.co.uk
SUMMARY:Southend Half (GRAND PRIX EVENT)
DESCRIPTION:Race no.1 on out Road Grand Prix Series. \nInfo from the organisers: \nHaven’s Hospices are hosting the Southend Half on the 9th June 2024.  \nThis is a great local event – let’s see a sea of Red and White along the estuary-side route! \n  \nLink to the event: https://www.havenshospices.org.uk/the-event-2/ 
URL:http://benfleetrunningclub.co.uk/event/southend-half-grand-prix-event/
CATEGORIES:Grand Prix,Race
END:VEVENT
END:VCALENDAR