BEGIN:VCALENDAR
VERSION:2.0
PRODID:-//Benfleet Running Club - ECPv6.11.2.1//NONSGML v1.0//EN
CALSCALE:GREGORIAN
METHOD:PUBLISH
X-ORIGINAL-URL:http://benfleetrunningclub.co.uk
X-WR-CALDESC:Events for Benfleet Running Club
REFRESH-INTERVAL;VALUE=DURATION:PT1H
X-Robots-Tag:noindex
X-PUBLISHED-TTL:PT1H
BEGIN:VTIMEZONE
TZID:Europe/London
BEGIN:DAYLIGHT
TZOFFSETFROM:+0000
TZOFFSETTO:+0100
TZNAME:BST
DTSTART:20240331T010000
END:DAYLIGHT
BEGIN:STANDARD
TZOFFSETFROM:+0100
TZOFFSETTO:+0000
TZNAME:GMT
DTSTART:20241027T010000
END:STANDARD
END:VTIMEZONE
BEGIN:VEVENT
DTSTART;TZID=Europe/London:20240621T193000
DTEND;TZID=Europe/London:20240621T213000
DTSTAMP:20260422T054209
CREATED:20240520T113632Z
LAST-MODIFIED:20240520T113632Z
UID:7249-1718998200-1719005400@benfleetrunningclub.co.uk
SUMMARY:Friday Night Five (GRAND PRIX EVENT)
DESCRIPTION:Race no.3 in our Road Grand Prix series. \nInfo from the organisers: \nReturn of the best Friday night out a runner can have. Which Springfield Striders have been running since 1999. \nA great low-key race open to all abilities. \nThe race will be Chip Timed and consists of a 2 lap course on quiet country lanes around the beautiful Essex Village of Pleshey\, near Chelmsford. (5 miles) \nNo medal\, but your race number can be swapped for a burger or vegetarian option at the post race BBQ. \n  \nLink to the event: https://springfieldstriders.org.uk/friday-night-five/
URL:http://benfleetrunningclub.co.uk/event/friday-night-five-grand-prix-event/
CATEGORIES:Grand Prix,Race
END:VEVENT
END:VCALENDAR