BEGIN:VCALENDAR
VERSION:2.0
PRODID:-//Benfleet Running Club - ECPv6.11.2.1//NONSGML v1.0//EN
CALSCALE:GREGORIAN
METHOD:PUBLISH
X-WR-CALNAME:Benfleet Running Club
X-ORIGINAL-URL:http://benfleetrunningclub.co.uk
X-WR-CALDESC:Events for Benfleet Running Club
REFRESH-INTERVAL;VALUE=DURATION:PT1H
X-Robots-Tag:noindex
X-PUBLISHED-TTL:PT1H
BEGIN:VTIMEZONE
TZID:Europe/London
BEGIN:DAYLIGHT
TZOFFSETFROM:+0000
TZOFFSETTO:+0100
TZNAME:BST
DTSTART:20240331T010000
END:DAYLIGHT
BEGIN:STANDARD
TZOFFSETFROM:+0100
TZOFFSETTO:+0000
TZNAME:GMT
DTSTART:20241027T010000
END:STANDARD
END:VTIMEZONE
BEGIN:VEVENT
DTSTART;TZID=Europe/London:20241006T100000
DTEND;TZID=Europe/London:20241006T170000
DTSTAMP:20260422T014556
CREATED:20240603T034245Z
LAST-MODIFIED:20240603T034245Z
UID:7306-1728208800-1728234000@benfleetrunningclub.co.uk
SUMMARY:Southend 10k (GRAND PRIX EVENT)
DESCRIPTION:Race no.4 in our Road Grand Prix series.  \n  \nInfo from the organisers: \nThe course is a flat\, out and back\, traffic- free course along Southend seafront\, also incorporating a section on the wide footpaths of Gunners Park. \n  \nlink to event: https://www.southend10k.com/home/race-information/
URL:http://benfleetrunningclub.co.uk/event/southend-10k-grand-prix-event/
CATEGORIES:Grand Prix,Race
END:VEVENT
END:VCALENDAR