BEGIN:VCALENDAR
VERSION:2.0
PRODID:-//Benfleet Running Club - ECPv6.11.2.1//NONSGML v1.0//EN
CALSCALE:GREGORIAN
METHOD:PUBLISH
X-WR-CALNAME:Benfleet Running Club
X-ORIGINAL-URL:http://benfleetrunningclub.co.uk
X-WR-CALDESC:Events for Benfleet Running Club
REFRESH-INTERVAL;VALUE=DURATION:PT1H
X-Robots-Tag:noindex
X-PUBLISHED-TTL:PT1H
BEGIN:VTIMEZONE
TZID:Europe/London
BEGIN:DAYLIGHT
TZOFFSETFROM:+0000
TZOFFSETTO:+0100
TZNAME:BST
DTSTART:20240331T010000
END:DAYLIGHT
BEGIN:STANDARD
TZOFFSETFROM:+0100
TZOFFSETTO:+0000
TZNAME:GMT
DTSTART:20241027T010000
END:STANDARD
END:VTIMEZONE
BEGIN:VEVENT
DTSTART;TZID=Europe/London:20241110T100000
DTEND;TZID=Europe/London:20241110T170000
DTSTAMP:20260421T232320
CREATED:20240604T064306Z
LAST-MODIFIED:20240604T064306Z
UID:7319-1731232800-1731258000@benfleetrunningclub.co.uk
SUMMARY:Stebbing 10 Mile (GRAND PRIX EVENT)
DESCRIPTION:Race no.6* in our Road Grand Prix series.  \n  \nInfo from the organisers: \nOrganised by Grange Farm and Dunmow Runners and celebrating its 21st year in 2023\, the award-winning Remembrance Day Stebbing 10 is a 10-mile race on gently undulating\, scenic north Essex country lanes. The race starts outside Stebbing Church and finishes in the village. \n  \nLocation: \nStebbing Primary School\, Stebbing\, Dunmow\, Essex CM6 3SH \n  \nLink to event: https://www.grangefarmdunmowrunners.co.uk/club-races/stebbing-10/  \n  \n*Due to timings of other popular races we’ve added 6 events to the Road Grand Prix series\, with events 5 and 6 both being a 10 mile event. Although encouraged to enter both\, only the best score from event 5 or 6 will be included into the overall Grand Prix Results.
URL:http://benfleetrunningclub.co.uk/event/stebbing-10-mile-grand-prix-event/
CATEGORIES:Grand Prix,Race
END:VEVENT
END:VCALENDAR