BEGIN:VCALENDAR
VERSION:2.0
PRODID:-//Benfleet Running Club - ECPv6.11.2.1//NONSGML v1.0//EN
CALSCALE:GREGORIAN
METHOD:PUBLISH
X-ORIGINAL-URL:http://benfleetrunningclub.co.uk
X-WR-CALDESC:Events for Benfleet Running Club
REFRESH-INTERVAL;VALUE=DURATION:PT1H
X-Robots-Tag:noindex
X-PUBLISHED-TTL:PT1H
BEGIN:VTIMEZONE
TZID:Europe/London
BEGIN:DAYLIGHT
TZOFFSETFROM:+0000
TZOFFSETTO:+0100
TZNAME:BST
DTSTART:20190331T010000
END:DAYLIGHT
BEGIN:STANDARD
TZOFFSETFROM:+0100
TZOFFSETTO:+0000
TZNAME:GMT
DTSTART:20191027T010000
END:STANDARD
BEGIN:DAYLIGHT
TZOFFSETFROM:+0000
TZOFFSETTO:+0100
TZNAME:BST
DTSTART:20200329T010000
END:DAYLIGHT
BEGIN:STANDARD
TZOFFSETFROM:+0100
TZOFFSETTO:+0000
TZNAME:GMT
DTSTART:20201025T010000
END:STANDARD
BEGIN:DAYLIGHT
TZOFFSETFROM:+0000
TZOFFSETTO:+0100
TZNAME:BST
DTSTART:20210328T010000
END:DAYLIGHT
BEGIN:STANDARD
TZOFFSETFROM:+0100
TZOFFSETTO:+0000
TZNAME:GMT
DTSTART:20211031T010000
END:STANDARD
BEGIN:DAYLIGHT
TZOFFSETFROM:+0000
TZOFFSETTO:+0100
TZNAME:BST
DTSTART:20220327T010000
END:DAYLIGHT
BEGIN:STANDARD
TZOFFSETFROM:+0100
TZOFFSETTO:+0000
TZNAME:GMT
DTSTART:20221030T010000
END:STANDARD
BEGIN:DAYLIGHT
TZOFFSETFROM:+0000
TZOFFSETTO:+0100
TZNAME:BST
DTSTART:20230326T010000
END:DAYLIGHT
BEGIN:STANDARD
TZOFFSETFROM:+0100
TZOFFSETTO:+0000
TZNAME:GMT
DTSTART:20231029T010000
END:STANDARD
BEGIN:DAYLIGHT
TZOFFSETFROM:+0000
TZOFFSETTO:+0100
TZNAME:BST
DTSTART:20240331T010000
END:DAYLIGHT
BEGIN:STANDARD
TZOFFSETFROM:+0100
TZOFFSETTO:+0000
TZNAME:GMT
DTSTART:20241027T010000
END:STANDARD
END:VTIMEZONE
BEGIN:VEVENT
DTSTART;VALUE=DATE:20241207
DTEND;VALUE=DATE:20241208
DTSTAMP:20260421T091610
CREATED:20240605T104053Z
LAST-MODIFIED:20240618T074234Z
UID:7359-1733529600-1733615999@benfleetrunningclub.co.uk
SUMMARY:Presentation Evening/ Christmas Party
DESCRIPTION:BRC’s annual Christmas Party and Awards Presentation Evening.  \nLocation: Richmond Hall\, South Benfleet  \nTime: TBD \nCost: TBD \nFun: Confirmed \nFull details to come.
URL:http://benfleetrunningclub.co.uk/event/presentation-evening-christmas-party/
CATEGORIES:Social
END:VEVENT
BEGIN:VEVENT
DTSTART;VALUE=DATE:20241011
DTEND;VALUE=DATE:20241012
DTSTAMP:20260421T091610
CREATED:20240618T073734Z
LAST-MODIFIED:20240618T073836Z
UID:7412-1728604800-1728691199@benfleetrunningclub.co.uk
SUMMARY:Bobby’s Quiz Night
DESCRIPTION:It’s the big one – Bobby’s Quiz Night! \nTeams of up to 8 people taking part in Bobby’s quiz. \nVenue: Kingston Primary School \nCost: £5 per person \nTime: TBD \nRSVP directly to Bobby\, or via the Club Contacts page.  \n 
URL:http://benfleetrunningclub.co.uk/event/bobbys-quiz-night/
CATEGORIES:Social
END:VEVENT
BEGIN:VEVENT
DTSTART;TZID=Europe/London:20240811T103000
DTEND;TZID=Europe/London:20240811T143000
DTSTAMP:20260421T091610
CREATED:20240605T103845Z
LAST-MODIFIED:20240618T073957Z
UID:7357-1723372200-1723386600@benfleetrunningclub.co.uk
SUMMARY:Bobby's Quiz-nic
DESCRIPTION:Bobby’s back with another quiz-nic.\nThe route is approximately 4miles\, starting at 10.30am from Dark Lane.\nPlease RSVP directly to Bobby\, or via the club contacts page.
URL:http://benfleetrunningclub.co.uk/event/bobbys-quiznic/
CATEGORIES:Social
END:VEVENT
BEGIN:VEVENT
DTSTART;TZID=Europe/London:20240716T180000
DTEND;TZID=Europe/London:20240716T203000
DTSTAMP:20260421T091610
CREATED:20240605T103703Z
LAST-MODIFIED:20240618T072841Z
UID:7355-1721152800-1721161800@benfleetrunningclub.co.uk
SUMMARY:Summer BBQ Evening
DESCRIPTION:BRC’s new annual Summer picnic.\nExpect fun\, games and loads of food.\nPlease RSVP to Esther by whatsapp or through the contact page.
URL:http://benfleetrunningclub.co.uk/event/summer-bbq/
LOCATION:Brook Road Pavillion\, Brook Road\, Benfleet\, SS7 5JF
CATEGORIES:Social
END:VEVENT
BEGIN:VEVENT
DTSTART;TZID=Europe/London:20190720T090000
DTEND;TZID=Europe/London:20190720T100000
DTSTAMP:20260421T091610
CREATED:20190715T220758Z
LAST-MODIFIED:20190715T220758Z
UID:6065-1563613200-1563616800@benfleetrunningclub.co.uk
SUMMARY:parkrun Saturday
DESCRIPTION:Hadleigh parkrun #DFYB
URL:http://benfleetrunningclub.co.uk/event/parkrun-saturday/
CATEGORIES:Social
END:VEVENT
END:VCALENDAR